BEGIN:VCALENDAR
VERSION:2.0
PRODID:-//ChamberMaster//Event Calendar 2.0//EN
METHOD:PUBLISH
X-PUBLISHED-TTL:P3D
REFRESH-INTERVAL:P3D
CALSCALE:GREGORIAN
BEGIN:VEVENT
DTSTART:20260528T200000Z
DTEND:20260528T223000Z
X-MICROSOFT-CDO-ALLDAYEVENT:FALSE
SUMMARY:The Berwyn Business Bootcamp
DESCRIPTION:The Berwyn Business Bootcamp\n\nThe BDC is proud to share an opportunity for local entrepreneurs to level up their business skills through The Berwyn Business Bootcamp\, an intimate two session workshop led by business coaches Joe DeRamos and Jill Salzman.\n\nThis hands on program is designed to help you strengthen key areas of your business from sales strategies to leadership development while providing practical\, actionable steps you can put to use immediately. You'll also have the chance to connect with fellow Berwyn business owners\, exchange ideas\, and expand your local network.\n\nSESSION\n\nSession #1: May 26th 28th\, 3:00 5:30pm\n\nSession #2: May 28th\, 3:00 5:30pm\n\n*Must attend both sessions\, this is a two-part event\n\nLimited to 15 attendees!\n\nThis small group format ensures personalized guidance and plenty of interaction.\n\nWant to learn more or see if this program is a fit for you?\n\nEmail BerwynBootCamp@gmail.com to connect with Joe and Jill.
X-ALT-DESC;FMTTYPE=text/html:<div style="color: rgb(0\, 0\, 0)\; font-family: &quot\;Segoe UI&quot\;\; font-size: 14px\; line-height: 20px\;">\n<p><br />\n<strong>The Berwyn Business Bootcamp</strong></p>\n\n<p>The BDC is proud to share an opportunity for local entrepreneurs to level up their business skills through <strong>The Berwyn Business Bootcamp</strong>\, an intimate two&#8209\;session workshop led by business coaches <strong>Joe DeRamos</strong> and <strong>Jill Salzman</strong>.</p>\n\n<p>This hands&#8209\;on program is designed to help you strengthen key areas of your business&mdash\;from sales strategies to leadership development&mdash\;while providing practical\, actionable steps you can put to use immediately. You&#39\;ll also have the chance to connect with fellow Berwyn business owners\, exchange ideas\, and expand your local network.</p>\n\n<p><strong>SESSION</strong><br />\n<strong>Session #1:</strong>&nbsp\;May 26th&nbsp\;28th\, 3:00&ndash\;5:30pm<br />\n<strong>Session #2:</strong>&nbsp\;May 28th\, 3:00&ndash\;5:30pm<br />\n*Must attend both sessions\, this is a two-part event</p>\n\n<p><strong>Limited to 15 attendees!</strong><br />\nThis small&#8209\;group format ensures personalized guidance and plenty of interaction.</p>\n\n<p><strong>Want to learn more or see if this program is a fit for you?</strong><br />\nEmail <b style="color: rgb(0\, 0\, 0)\; font-family: &quot\;Segoe UI&quot\;\, &quot\;Segoe UI Web (West European)&quot\;\, -apple-system\, BlinkMacSystemFont\, Roboto\, &quot\;Helvetica Neue&quot\;\, sans-serif\; font-size: 15px\;"><a data-linkindex="0" data-ogsc="" data-olk-copy-source="MessageBody" href="mailto:BerwynBootCamp@gmail.com" style="border: 0px\; font: inherit\; margin: 0px\; padding: 0px\; vertical-align: baseline\; outline: 0px\;" title="mailto:BerwynBootCamp@gmail.com">BerwynBootCamp@gmail.com</a></b> to connect with Joe and Jill.</p>\n</div>\n
LOCATION:Berwyn Development Corporation 3322 S. Oak Park Ave.\, Berwyn
UID:e.2628.16009
SEQUENCE:3
DTSTAMP:20260420T171448Z
URL:https://members.whyberwyn.com/events/details/the-berwyn-business-bootcamp-16009
END:VEVENT

END:VCALENDAR
