BEGIN:VCALENDAR
VERSION:2.0
PRODID:-//ChamberMaster//Event Calendar 2.0//EN
METHOD:PUBLISH
X-PUBLISHED-TTL:P3D
REFRESH-INTERVAL:P3D
CALSCALE:GREGORIAN
BEGIN:VEVENT
DTSTART:20180624T000000Z
DTEND:20180624T040000Z
X-MICROSOFT-CDO-ALLDAYEVENT:FALSE
SUMMARY:Professor Moptop: The Dawn of The Beatles
DESCRIPTION:Beatles expert and educator Professor Moptop will discuss the dawn of The Beatles from the day John and Paul met through the end of 1963\, followed by music from the same era by John San Juan and Tom Szidon on Saturday\, June 23. Tickets are $15. Purchase your tickets here. Doors open at 7pm and the show begins at 8pm. 21 and over. This is a seated show\; everyone will get a seat.\n\nProfessor Moptop begins his 4-part series on the Beatles with an educational course for all Beatle maniacs AND fanatics!\n\nProfessor Moptop teaches deep and detailed fab knowledge at Beatle University.\n\nIt is a weekly feature on WXRT's breakfast with the Beatles!
X-ALT-DESC;FMTTYPE=text/html:<p>Beatles expert and educator Professor Moptop will discuss the dawn of The Beatles from the day John and Paul met through the end of 1963\, followed by music from the same era by&nbsp\;<a href="https://www.facebook.com/johnsanjuan" target="_blank">John San Juan</a>&nbsp\;and&nbsp\;<a href="https://www.facebook.com/tom.szidon.9" target="_blank">Tom Szidon</a>&nbsp\;on Saturday\, June 23.&nbsp\;Tickets are $15. Purchase your tickets&nbsp\;<a href="https://www.ticketweb.com/event/professor-moptop-dawn-of-the-fitzgeralds-tickets/8416725">here</a>.&nbsp\;Doors open at 7pm and the show begins at 8pm. 21 and over. This is a seated show\; everyone will get a seat.</p>\n\n<p><a href="https://www.facebook.com/Professormoptop/" target="_blank">Professor Moptop</a>&nbsp\;begins his 4-part series on the Beatles with an educational course for all Beatle maniacs AND fanatics!</p>\n\n<p>Professor Moptop teaches deep and detailed fab knowledge at Beatle University.<br />\nIt is a weekly feature on WXRT&#39\;s breakfast with the Beatles!</p>\n\n<p>&nbsp\;</p>\n
LOCATION:FitzGerald's Nightclub & Sidebar 6615 W Roosevelt Rd Berwyn\, IL 60402
UID:e.2628.8550
SEQUENCE:3
DTSTAMP:20260425T192229Z
URL:https://members.whyberwyn.com/events/details/professor-moptop-the-dawn-of-the-beatles-8550
END:VEVENT

END:VCALENDAR
