BEGIN:VCALENDAR
VERSION:2.0
PRODID:-//ChamberMaster//Event Calendar 2.0//EN
METHOD:PUBLISH
X-PUBLISHED-TTL:P3D
REFRESH-INTERVAL:P3D
CALSCALE:GREGORIAN
BEGIN:VEVENT
DTSTART:20210723T230000Z
DTEND:20210724T000000Z
X-MICROSOFT-CDO-ALLDAYEVENT:FALSE
SUMMARY:Outdoors: Concert with Kym Frankovelgia
DESCRIPTION:Join Kym Frankovelgia for an evening outdoor music concert on the Library grounds. Kym will entertain you by singing a lot of your old favorites and taking your requests. Accompanying Kym will be Roxy Star\, her absolutely adorable rescue dog with the colored hair!
X-ALT-DESC;FMTTYPE=text/html:<span style="font-family:arial\,helvetica\,verdana\; font-size:12px">Join Kym Frankovelgia for an evening outdoor music concert on the Library grounds. Kym will entertain you by singing a lot of your old favorites and taking your requests. Accompanying Kym will be Roxy Star\, her absolutely adorable rescue dog with the colored hair!</span>
LOCATION:Berwyn Public Library 2701 S. Harlem Ave. Berwyn\, IL 60402
UID:e.2628.14005
SEQUENCE:3
DTSTAMP:20260419T164758Z
URL:https://members.whyberwyn.com/events/details/outdoors-concert-with-kym-frankovelgia-14005
END:VEVENT

END:VCALENDAR
