BEGIN:VCALENDAR
VERSION:2.0
PRODID:-//ChamberMaster//Event Calendar 2.0//EN
METHOD:PUBLISH
X-PUBLISHED-TTL:P3D
REFRESH-INTERVAL:P3D
CALSCALE:GREGORIAN
BEGIN:VEVENT
DTSTART:20190713T010000Z
DTEND:20190713T030000Z
X-MICROSOFT-CDO-ALLDAYEVENT:FALSE
SUMMARY:Movies in the Park
DESCRIPTION:T-mobile\, Berwyn Park District and the Berwyn Public Library are partnering to connect the community by bringing you Movies in the Park! Movies will start promptly at dusk. Check the daily weather to see the time of dusk each day.\n\n\n\nMovie: Lego Movie 2\n\nThe citizens of Bricksburg face a dangerous new threat when LEGO DUPLO invaders from outer space start to wreck everything in their path. The battle to defeat the enemy and restore harmony to the LEGO universe takes Emmet\, Lucy\, Batman and the rest of their friends to faraway\, unexplored worlds that test their courage and creativity.
X-ALT-DESC;FMTTYPE=text/html:T-mobile\, Berwyn Park District and the Berwyn Public Library are partnering to connect the community by bringing you Movies in the Park! Movies will start promptly at dusk. Check the daily weather to see the time of dusk each day.<br />\n<br />\n<strong>Movie: Lego Movie 2</strong><br />\nThe citizens of Bricksburg face a dangerous new threat when LEGO DUPLO invaders from outer space start to wreck everything in their path. The battle to defeat the enemy and restore harmony to the LEGO universe takes Emmet\, Lucy\, Batman and the rest of their friends to faraway\, unexplored worlds that test their courage and creativity.&nbsp\;
LOCATION:6514 W 27th Pl - Across the street from Liberty Cultural Center Berwyn\, IL 60402 Rain Location: Liberty Cultural Center (6445 W 27th Pl)
UID:e.2628.11194
SEQUENCE:3
DTSTAMP:20260420T044119Z
URL:https://members.whyberwyn.com/events/details/movies-in-the-park-07-12-2019-11194
END:VEVENT

END:VCALENDAR
