BEGIN:VCALENDAR
VERSION:2.0
PRODID:-//ChamberMaster//Event Calendar 2.0//EN
METHOD:PUBLISH
X-PUBLISHED-TTL:P3D
REFRESH-INTERVAL:P3D
CALSCALE:GREGORIAN
BEGIN:VEVENT
DTSTART:20211028T170000Z
DTEND:20211028T173000Z
X-MICROSOFT-CDO-ALLDAYEVENT:FALSE
SUMMARY:Grand Opening Celebration of Monse's Breakfast Tapas Bar
DESCRIPTION:The Berwyn Development Corporation invites you to join us for the grand opening of Monse's Breakfast Tapas Bar. Monse's Breakfast Tapas Bar is a family-owned business who is committed to providing a unique and authentic experience to its patrons. They offer a full breakfast\, lunch\, and dinner menu. Pair your favorite tapas with a drink from their extensive beverage menu including coffee\, freshly made juices\, and hand-crafted cocktails.  \n\n\n\nCome network with Berwyn's civic officials\, local residents and businesses as we welcome Monse's Breakfast Tapas Bar to Berwyn's Roosevelt Road.
X-ALT-DESC;FMTTYPE=text/html:<p>The Berwyn Development Corporation invites you to join us for the grand opening of Monse&#39\;s Breakfast Tapas Bar. Monse&#39\;s Breakfast Tapas Bar is a family-owned business who is committed to providing a unique and authentic experience to its patrons. They offer a full breakfast\, lunch\, and dinner menu. Pair your favorite tapas with a drink from their extensive beverage menu including coffee\, freshly made juices\, and hand-crafted cocktails.&nbsp\;&nbsp\;<br />\n<br />\nCome network with Berwyn&#39\;s civic officials\, local residents and businesses as we welcome Monse&#39\;s Breakfast Tapas Bar to Berwyn&#39\;s Roosevelt Road.</p>\n
LOCATION:Monse's Breakfast Tapas Bar 6609 Roosevelt Rd Berwyn\, IL 60402
UID:e.2628.14583
SEQUENCE:3
DTSTAMP:20260420T212048Z
URL:https://members.whyberwyn.com/events/details/grand-opening-celebration-of-monse-s-breakfast-tapas-bar-14583
END:VEVENT

END:VCALENDAR
