BEGIN:VCALENDAR
VERSION:2.0
PRODID:-//ChamberMaster//Event Calendar 2.0//EN
METHOD:PUBLISH
X-PUBLISHED-TTL:P3D
REFRESH-INTERVAL:P3D
CALSCALE:GREGORIAN
BEGIN:VEVENT
DTSTART:20260507T200000Z
DTEND:20260507T210000Z
X-MICROSOFT-CDO-ALLDAYEVENT:FALSE
SUMMARY:Fundamentals of Tech in Business
DESCRIPTION:Want to make technology work smarter for your business? Join T-Mobile Business account executives Jose Camarillo and Rico Gonzalez for a practical session on streamlining operations\, boosting efficiency\, and keeping your personal and business tech separate. Learn the fundamentals you need to stay organized\, secure\, and competitive.
X-ALT-DESC;FMTTYPE=text/html:<span style="font-family:aptos\,sans-serif\;"><span style="font-size:12.0pt\;">Want to make technology work smarter for your business? Join T-Mobile Business account executives Jose Camarillo and Rico Gonzalez for a practical session on streamlining operations\, boosting efficiency\, and keeping your personal and business tech separate. Learn the fundamentals you need to stay organized\, secure\, and competitive.&nbsp\;</span></span>
LOCATION:Zoom Link Provided Upon Registration.
UID:e.2628.16010
SEQUENCE:3
DTSTAMP:20260420T221117Z
URL:https://members.whyberwyn.com/events/details/fundamentals-of-tech-in-business-16010
END:VEVENT

END:VCALENDAR
