BEGIN:VCALENDAR
VERSION:2.0
PRODID:-//ChamberMaster//Event Calendar 2.0//EN
METHOD:PUBLISH
X-PUBLISHED-TTL:P3D
REFRESH-INTERVAL:P3D
CALSCALE:GREGORIAN
BEGIN:VEVENT
DTSTART:20210819T133000Z
DTEND:20210819T143000Z
X-MICROSOFT-CDO-ALLDAYEVENT:FALSE
SUMMARY:Economic Development Commission Meeting
DESCRIPTION:The Economic Development Commission Meeting is held on the 3rd Thursday of the month at 8:30AM at the BDC. \n\n\n\nThe Economic Development Commission engages Berwyn's businesses\, facilitates communications and advocates for economic development by providing applicable recommendations to the BDC Board.
X-ALT-DESC;FMTTYPE=text/html:The Economic Development Commission Meeting is held on the&nbsp\;3rd&nbsp\;Thursday of the month at 8:30AM at the BDC.&nbsp\;<br />\n<br />\nThe Economic Development Commission engages&nbsp\;Berwyn&#39\;s&nbsp\;businesses\, facilitates communications and advocates for economic development by providing applicable recommendations to the&nbsp\;BDC&nbsp\;Board.<br />\n&nbsp\;
LOCATION:Berwyn Development Corporation 3322 S Oak Park Ave 2nd Fl Berwyn\, IL 60402
UID:e.2628.6076
SEQUENCE:3
DTSTAMP:20260420T110553Z
URL:https://members.whyberwyn.com/events/details/economic-development-commission-meeting-08-19-2021-6076
END:VEVENT

END:VCALENDAR
