BEGIN:VCALENDAR
VERSION:2.0
PRODID:-//ChamberMaster//Event Calendar 2.0//EN
METHOD:PUBLISH
X-PUBLISHED-TTL:P3D
REFRESH-INTERVAL:P3D
CALSCALE:GREGORIAN
BEGIN:VEVENT
DTSTART:20190928T180000Z
DTEND:20190928T220000Z
X-MICROSOFT-CDO-ALLDAYEVENT:FALSE
SUMMARY:Berwyn Brew Fest
DESCRIPTION:Beer\, music\, food and friends...This is what you can expect to find at our 6th Annual Berwyn Brew Fest this fall. Enjoy a wide range of beer with over 40 different craft beers to choose from inside Proksa Park. Live music and food vendors will be there to make a complete afternoon for everyone involved.\n\n\n\nTo purchase tickets or for more information\, visit www.berwynbrewfest.com\n\n\n\nThank you to our sponsors:\n\nBerwyn Development Corporation
X-ALT-DESC;FMTTYPE=text/html:Beer\, music\, food and friends...This is what you can expect to find at our 6th Annual Berwyn Brew Fest this fall. Enjoy a wide range of beer with over 40 different craft beers to choose from inside Proksa Park. Live music and food vendors will be there to make a complete afternoon for everyone involved.<br />\n<br />\nTo purchase tickets or for more information\, visit www.berwynbrewfest.com<br />\n<br />\n<span style="color:rgb(34\, 34\, 34)\; font-family:arial\,verdana\,sans-serif\; font-size:12px">Thank you to our sponsors:</span><br />\n<a href="https://www.berwyn.net/">Berwyn Development Corporation</a>
LOCATION:Proksa Park 3001 S Wisconsin Ave Berwyn\, IL 60402
UID:e.2628.11202
SEQUENCE:3
DTSTAMP:20260420T103948Z
URL:https://members.whyberwyn.com/events/details/berwyn-brew-fest-11202
END:VEVENT

END:VCALENDAR
